BEGIN:VCALENDAR
VERSION:2.0
PRODID:-//Nécro-Romantiques - ECPv6.15.20//NONSGML v1.0//EN
CALSCALE:GREGORIAN
METHOD:PUBLISH
X-ORIGINAL-URL:https://necro-romantiques.fr
X-WR-CALDESC:Évènements pour Nécro-Romantiques
REFRESH-INTERVAL;VALUE=DURATION:PT1H
X-Robots-Tag:noindex
X-PUBLISHED-TTL:PT1H
BEGIN:VTIMEZONE
TZID:Europe/Paris
BEGIN:DAYLIGHT
TZOFFSETFROM:+0100
TZOFFSETTO:+0200
TZNAME:CEST
DTSTART:20230326T010000
END:DAYLIGHT
BEGIN:STANDARD
TZOFFSETFROM:+0200
TZOFFSETTO:+0100
TZNAME:CET
DTSTART:20231029T010000
END:STANDARD
BEGIN:DAYLIGHT
TZOFFSETFROM:+0100
TZOFFSETTO:+0200
TZNAME:CEST
DTSTART:20240331T010000
END:DAYLIGHT
BEGIN:STANDARD
TZOFFSETFROM:+0200
TZOFFSETTO:+0100
TZNAME:CET
DTSTART:20241027T010000
END:STANDARD
BEGIN:DAYLIGHT
TZOFFSETFROM:+0100
TZOFFSETTO:+0200
TZNAME:CEST
DTSTART:20250330T010000
END:DAYLIGHT
BEGIN:STANDARD
TZOFFSETFROM:+0200
TZOFFSETTO:+0100
TZNAME:CET
DTSTART:20251026T010000
END:STANDARD
BEGIN:DAYLIGHT
TZOFFSETFROM:+0100
TZOFFSETTO:+0200
TZNAME:CEST
DTSTART:20260329T010000
END:DAYLIGHT
BEGIN:STANDARD
TZOFFSETFROM:+0200
TZOFFSETTO:+0100
TZNAME:CET
DTSTART:20261025T010000
END:STANDARD
BEGIN:DAYLIGHT
TZOFFSETFROM:+0100
TZOFFSETTO:+0200
TZNAME:CEST
DTSTART:20270328T010000
END:DAYLIGHT
BEGIN:STANDARD
TZOFFSETFROM:+0200
TZOFFSETTO:+0100
TZNAME:CET
DTSTART:20271031T010000
END:STANDARD
END:VTIMEZONE
BEGIN:VEVENT
DTSTART;TZID=Europe/Paris:20260421T143000
DTEND;TZID=Europe/Paris:20260421T180000
DTSTAMP:20260421T211544
CREATED:20220811T114547Z
LAST-MODIFIED:20260413T140939Z
UID:650-1776781800-1776794400@necro-romantiques.fr
SUMMARY:Humour noir\, Célébrités et Légendes du Père Lachaise
DESCRIPTION:Vivez la plus célèbre des visites « Célébrités et Légendes du Père Lachaise » \, la seule visite One-man show de Paris et idéale pour une 1ère fois. Une visite spectacle décalée sans nulle comparaison ; bien ficelée\, bourrée de rebondissements et pleine d’humour ; chaque tombe se transforme en un tableau vivant : Piaf\, Salvador\, Balzac\, Montand Signoret\, Jim Morrison\, Chopin\, Bécaud\, Bashung\, Georges Moustaki et bien d’autres. \nLa visite culte unanimement saluée par le public et les médias et labellisée par l’Office du Tourisme de Paris. \nTarif : 20€ (gratuit – 12 ans) \nRéservation >
URL:https://necro-romantiques.fr/agenda/celebrites-et-legendes-du-pere-lachaise-2/
LOCATION:Cimetière du Père Lachaise\, Rue des Rondeaux\, Paris\, 75020\, France
CATEGORIES:Célébrités et Légendes du Père-Lachaise
ATTACH;FMTTYPE=image/png:https://necro-romantiques.fr/wp-content/uploads/2022/05/vclassi-e1660219215397.png
END:VEVENT
BEGIN:VEVENT
DTSTART;TZID=Europe/Paris:20260416T143000
DTEND;TZID=Europe/Paris:20260416T180000
DTSTAMP:20260421T211544
CREATED:20220811T115835Z
LAST-MODIFIED:20260404T183849Z
UID:655-1776349800-1776362400@necro-romantiques.fr
SUMMARY:Humour noir\, Célébrités et Légendes du Père Lachaise
DESCRIPTION:Vivez la plus célèbre des visites « Célébrités et Légendes du Père Lachaise » \, la seule visite One-man show de Paris et idéale pour une 1ère fois. Une visite spectacle décalée sans nulle comparaison ; bien ficelée\, bourrée de rebondissements et pleine d’humour ; chaque tombe se transforme en un tableau vivant : Piaf\, Salvador\, Balzac\, Montand Signoret\, Jim Morrison\, Chopin\, Bécaud\, Bashung\, Georges Moustaki et bien d’autres. \nLa visite culte unanimement saluée par le public et les médias et labellisée par l’Office du Tourisme de Paris. \nTarif : 20€ (gratuit – 12 ans) \nRéservation >
URL:https://necro-romantiques.fr/agenda/celebrites-et-legendes-du-pere-lachaise-3/
LOCATION:Cimetière du Père Lachaise\, Rue des Rondeaux\, Paris\, 75020\, France
CATEGORIES:Célébrités et Légendes du Père-Lachaise
ATTACH;FMTTYPE=image/png:https://necro-romantiques.fr/wp-content/uploads/2022/05/vclassi-e1660219215397.png
ORGANIZER;CN="Thierry Le Roi":MAILTO:lesnecroromantiques@gmail.com
END:VEVENT
BEGIN:VEVENT
DTSTART;TZID=Europe/Paris:20241103T140000
DTEND;TZID=Europe/Paris:20241103T160000
DTSTAMP:20260421T211544
CREATED:20241024T235511Z
LAST-MODIFIED:20241024T235511Z
UID:6724-1730642400-1730649600@necro-romantiques.fr
SUMMARY:Cimetière des Chiens d'Asnières sur Seine
DESCRIPTION:A quelques kilomètres de Paris\, découvrez un lieu unique au monde\, chargé d’histoire et d’amour : le cimetière des chiens d’Asnières sur Seine. \nOuvert en 1899 sur l’idée de deux grands amoureux des animaux : Marguerite Durand\, journaliste féministe et George Harmois\, Avocat philanthrope\, le cimetière des chiens et autres animaux domestiques fût érigé sur l’île des Ravageurs. \nPour se rendre au Cimetière : \nEn voiture : un parking est disponible devant le cimetière \n 4 Pont de Clichy\, 92600 Asnières-sur-Seine \nEn transports : Métro Ligne 13 station Gabriel Péri \nLe lieu de rendez-vous de la visite : devant la porte monumentale du Cimetière\, près de la statue Alter Ego \nLes chiens tenus en laisse peuvent vous accompagner durant la visite. \nTarif : 15 euros\nRéservation obligatoire par mail  : greenandgraves@gmail.com ou par SMS au  06 10 30 52 08 \n\nLe tarif proposé est un tarif à partir de 13 ans et comprend la visite guidée ET l’entrée payante du cimetière.\nL’entrée du cimetière et la visite guidée sont gratuites pour les enfants de 0 à 6 ans.\nPour les 6-12 ans\, la visite guidée est gratuite\, il faudra simplement régler l’entrée du cimetière directement à la conservation (1\,50 euros\, attention pas de carte bancaire).\nLa visite est limitée à 10-15 personnes maximum pour des raisons de confort et de respect des concessionnaires car le cimetière\, encore en activité est un lieu de mémoire et de recueillement.\nPrévoir des chaussures confortables et un vêtement de pluie en fonction de la météo.\nLe cimetière est déconseillé aux personnes à mobilité réduite car le terrain peut être accidenté et les allées sont souvent étroites\, jonchées de pierres ou de racines.\nLa visite peut être annulée en cas de force majeure ou de météo compliquée (grêle\, neige\, vent violent) et la Ville d’Asnières peut aussi décider de ne pas ouvrir le cimetière pour de multiples raisons.\n\nMerci de vous présenter au point de rendez vous 10 minutes avant le début de la visite et de bien préciser vos coordonnées lors de la réservation en cas d’annulation de dernière minute.
URL:https://necro-romantiques.fr/agenda/cimetiere-des-chiens-dasnieres-sur-seine-8/
CATEGORIES:Cimetière des chiens d’Asnières Sur Seine
ATTACH;FMTTYPE=image/png:https://necro-romantiques.fr/wp-content/uploads/2022/11/chiens2.png
END:VEVENT
BEGIN:VEVENT
DTSTART;TZID=Europe/Paris:20241103T103000
DTEND;TZID=Europe/Paris:20241103T120000
DTSTAMP:20260421T211544
CREATED:20241024T235346Z
LAST-MODIFIED:20241024T235346Z
UID:6722-1730629800-1730635200@necro-romantiques.fr
SUMMARY:Cimetière des Chiens d'Asnières sur Seine
DESCRIPTION:A quelques kilomètres de Paris\, découvrez un lieu unique au monde\, chargé d’histoire et d’amour : le cimetière des chiens d’Asnières sur Seine. \nOuvert en 1899 sur l’idée de deux grands amoureux des animaux : Marguerite Durand\, journaliste féministe et George Harmois\, Avocat philanthrope\, le cimetière des chiens et autres animaux domestiques fût érigé sur l’île des Ravageurs. \nPour se rendre au Cimetière : \nEn voiture : un parking est disponible devant le cimetière \n 4 Pont de Clichy\, 92600 Asnières-sur-Seine \nEn transports : Métro Ligne 13 station Gabriel Péri \nLe lieu de rendez-vous de la visite : devant la porte monumentale du Cimetière\, près de la statue Alter Ego \nLes chiens tenus en laisse peuvent vous accompagner durant la visite. \nTarif : 15 euros\nRéservation obligatoire par mail  : greenandgraves@gmail.com ou par SMS au  06 10 30 52 08 \n\nLe tarif proposé est un tarif à partir de 13 ans et comprend la visite guidée ET l’entrée payante du cimetière.\nL’entrée du cimetière et la visite guidée sont gratuites pour les enfants de 0 à 6 ans.\nPour les 6-12 ans\, la visite guidée est gratuite\, il faudra simplement régler l’entrée du cimetière directement à la conservation (1\,50 euros\, attention pas de carte bancaire).\nLa visite est limitée à 10-15 personnes maximum pour des raisons de confort et de respect des concessionnaires car le cimetière\, encore en activité est un lieu de mémoire et de recueillement.\nPrévoir des chaussures confortables et un vêtement de pluie en fonction de la météo.\nLe cimetière est déconseillé aux personnes à mobilité réduite car le terrain peut être accidenté et les allées sont souvent étroites\, jonchées de pierres ou de racines.\nLa visite peut être annulée en cas de force majeure ou de météo compliquée (grêle\, neige\, vent violent) et la Ville d’Asnières peut aussi décider de ne pas ouvrir le cimetière pour de multiples raisons.\n\nMerci de vous présenter au point de rendez vous 10 minutes avant le début de la visite et de bien préciser vos coordonnées lors de la réservation en cas d’annulation de dernière minute.
URL:https://necro-romantiques.fr/agenda/cimetiere-des-chiens-dasnieres-sur-seine-7/
CATEGORIES:Cimetière des chiens d’Asnières Sur Seine
ATTACH;FMTTYPE=image/jpeg:https://necro-romantiques.fr/wp-content/uploads/2022/09/chiens.jpeg
END:VEVENT
BEGIN:VEVENT
DTSTART;TZID=Europe/Paris:20241102T140000
DTEND;TZID=Europe/Paris:20241102T160000
DTSTAMP:20260421T211544
CREATED:20241024T235225Z
LAST-MODIFIED:20241024T235225Z
UID:6720-1730556000-1730563200@necro-romantiques.fr
SUMMARY:Cimetière des Chiens d'Asnières sur Seine
DESCRIPTION:A quelques kilomètres de Paris\, découvrez un lieu unique au monde\, chargé d’histoire et d’amour : le cimetière des chiens d’Asnières sur Seine. \nOuvert en 1899 sur l’idée de deux grands amoureux des animaux : Marguerite Durand\, journaliste féministe et George Harmois\, Avocat philanthrope\, le cimetière des chiens et autres animaux domestiques fût érigé sur l’île des Ravageurs. \nPour se rendre au Cimetière : \nEn voiture : un parking est disponible devant le cimetière \n 4 Pont de Clichy\, 92600 Asnières-sur-Seine \nEn transports : Métro Ligne 13 station Gabriel Péri \nLe lieu de rendez-vous de la visite : devant la porte monumentale du Cimetière\, près de la statue Alter Ego \nLes chiens tenus en laisse peuvent vous accompagner durant la visite. \nTarif : 15 euros\nRéservation obligatoire par mail  : greenandgraves@gmail.com ou par SMS au  06 10 30 52 08 \n\nLe tarif proposé est un tarif à partir de 13 ans et comprend la visite guidée ET l’entrée payante du cimetière.\nL’entrée du cimetière et la visite guidée sont gratuites pour les enfants de 0 à 6 ans.\nPour les 6-12 ans\, la visite guidée est gratuite\, il faudra simplement régler l’entrée du cimetière directement à la conservation (1\,50 euros\, attention pas de carte bancaire).\nLa visite est limitée à 10-15 personnes maximum pour des raisons de confort et de respect des concessionnaires car le cimetière\, encore en activité est un lieu de mémoire et de recueillement.\nPrévoir des chaussures confortables et un vêtement de pluie en fonction de la météo.\nLe cimetière est déconseillé aux personnes à mobilité réduite car le terrain peut être accidenté et les allées sont souvent étroites\, jonchées de pierres ou de racines.\nLa visite peut être annulée en cas de force majeure ou de météo compliquée (grêle\, neige\, vent violent) et la Ville d’Asnières peut aussi décider de ne pas ouvrir le cimetière pour de multiples raisons.\n\nMerci de vous présenter au point de rendez vous 10 minutes avant le début de la visite et de bien préciser vos coordonnées lors de la réservation en cas d’annulation de dernière minute.
URL:https://necro-romantiques.fr/agenda/cimetiere-des-chiens-dasnieres-sur-seine-6/
CATEGORIES:Cimetière des chiens d’Asnières Sur Seine
ATTACH;FMTTYPE=image/jpeg:https://necro-romantiques.fr/wp-content/uploads/2022/09/chiens.jpeg
END:VEVENT
BEGIN:VEVENT
DTSTART;TZID=Europe/Paris:20241102T103000
DTEND;TZID=Europe/Paris:20241102T123000
DTSTAMP:20260421T211544
CREATED:20241024T234809Z
LAST-MODIFIED:20241024T235014Z
UID:6716-1730543400-1730550600@necro-romantiques.fr
SUMMARY:Cimetière des Chiens d'Asnières sur Seine
DESCRIPTION:A quelques kilomètres de Paris\, découvrez un lieu unique au monde\, chargé d’histoire et d’amour : le cimetière des chiens d’Asnières sur Seine. \nOuvert en 1899 sur l’idée de deux grands amoureux des animaux : Marguerite Durand\, journaliste féministe et George Harmois\, Avocat philanthrope\, le cimetière des chiens et autres animaux domestiques fût érigé sur l’île des Ravageurs. \nPour se rendre au Cimetière : \nEn voiture : un parking est disponible devant le cimetière \n 4 Pont de Clichy\, 92600 Asnières-sur-Seine \nEn transports : Métro Ligne 13 station Gabriel Péri \nLe lieu de rendez-vous de la visite : devant la porte monumentale du Cimetière\, près de la statue Alter Ego \nLes chiens tenus en laisse peuvent vous accompagner durant la visite. \nTarif : 15 euros\nRéservation obligatoire par mail  : greenandgraves@gmail.com ou par SMS au  06 10 30 52 08 \n\nLe tarif proposé est un tarif à partir de 13 ans et comprend la visite guidée ET l’entrée payante du cimetière.\nL’entrée du cimetière et la visite guidée sont gratuites pour les enfants de 0 à 6 ans.\nPour les 6-12 ans\, la visite guidée est gratuite\, il faudra simplement régler l’entrée du cimetière directement à la conservation (1\,50 euros\, attention pas de carte bancaire).\nLa visite est limitée à 10-15 personnes maximum pour des raisons de confort et de respect des concessionnaires car le cimetière\, encore en activité est un lieu de mémoire et de recueillement.\nPrévoir des chaussures confortables et un vêtement de pluie en fonction de la météo.\nLe cimetière est déconseillé aux personnes à mobilité réduite car le terrain peut être accidenté et les allées sont souvent étroites\, jonchées de pierres ou de racines.\nLa visite peut être annulée en cas de force majeure ou de météo compliquée (grêle\, neige\, vent violent) et la Ville d’Asnières peut aussi décider de ne pas ouvrir le cimetière pour de multiples raisons.\n\nMerci de vous présenter au point de rendez vous 10 minutes avant le début de la visite et de bien préciser vos coordonnées lors de la réservation en cas d’annulation de dernière minute.
URL:https://necro-romantiques.fr/agenda/cimetiere-des-chiens-dasnieres-sur-seine-2/
CATEGORIES:Cimetière des chiens d’Asnières Sur Seine
ATTACH;FMTTYPE=image/jpeg:https://necro-romantiques.fr/wp-content/uploads/2022/11/Illustration-Accueil-Cimetiere-des-Chiens.jpg
END:VEVENT
BEGIN:VEVENT
DTSTART;TZID=Europe/Paris:20241101T140000
DTEND;TZID=Europe/Paris:20241101T160000
DTSTAMP:20260421T211544
CREATED:20230910T174945Z
LAST-MODIFIED:20241024T235044Z
UID:5626-1730469600-1730476800@necro-romantiques.fr
SUMMARY:Cimetière des Chiens d'Asnières Sur Seine
DESCRIPTION:A quelques kilomètres de Paris\, découvrez un lieu unique au monde\, chargé d’histoire et d’amour : le cimetière des chiens d’Asnières sur Seine. \nOuvert en 1899 sur l’idée de deux grands amoureux des animaux : Marguerite Durand\, journaliste féministe et George Harmois\, Avocat philanthrope\, le cimetière des chiens et autres animaux domestiques fût érigé sur l’île des Ravageurs. \nPour se rendre au Cimetière : \nEn voiture : un parking est disponible devant le cimetière \n 4 Pont de Clichy\, 92600 Asnières-sur-Seine \nEn transports : Métro Ligne 13 station Gabriel Péri \nLe lieu de rendez-vous de la visite : devant la porte monumentale du Cimetière\, près de la statue Alter Ego \nLes chiens tenus en laisse peuvent vous accompagner durant la visite. \nTarif : 15 euros\nRéservation obligatoire par mail  : greenandgraves@gmail.com ou par SMS au  06 10 30 52 08 \n\nLe tarif proposé est un tarif à partir de 13 ans et comprend la visite guidée ET l’entrée payante du cimetière.\nL’entrée du cimetière et la visite guidée sont gratuites pour les enfants de 0 à 6 ans.\nPour les 6-12 ans\, la visite guidée est gratuite\, il faudra simplement régler l’entrée du cimetière directement à la conservation (1\,50 euros\, attention pas de carte bancaire).\nLa visite est limitée à 10-15 personnes maximum pour des raisons de confort et de respect des concessionnaires car le cimetière\, encore en activité est un lieu de mémoire et de recueillement.\nPrévoir des chaussures confortables et un vêtement de pluie en fonction de la météo.\nLe cimetière est déconseillé aux personnes à mobilité réduite car le terrain peut être accidenté et les allées sont souvent étroites\, jonchées de pierres ou de racines.\nLa visite peut être annulée en cas de force majeure ou de météo compliquée (grêle\, neige\, vent violent) et la Ville d’Asnières peut aussi décider de ne pas ouvrir le cimetière pour de multiples raisons.\n\nMerci de vous présenter au point de rendez vous 10 minutes avant le début de la visite et de bien préciser vos coordonnées lors de la réservation en cas d’annulation de dernière minute.
URL:https://necro-romantiques.fr/agenda/cimetiere-des-chiens-dasnieres-sur-seine-5/
CATEGORIES:Cimetière des chiens d’Asnières Sur Seine
ATTACH;FMTTYPE=image/png:https://necro-romantiques.fr/wp-content/uploads/2022/11/chiens2.png
END:VEVENT
BEGIN:VEVENT
DTSTART;TZID=Europe/Paris:20241101T103000
DTEND;TZID=Europe/Paris:20241101T123000
DTSTAMP:20260421T211544
CREATED:20230910T173105Z
LAST-MODIFIED:20241024T234020Z
UID:5618-1730457000-1730464200@necro-romantiques.fr
SUMMARY:Cimetière des Chiens d'Asnières Sur Seine
DESCRIPTION:A quelques kilomètres de Paris\, découvrez un lieu unique au monde\, chargé d’histoire et d’amour : le cimetière des chiens d’Asnières sur Seine. \nOuvert en 1899 sur l’idée de deux grands amoureux des animaux : Marguerite Durand\, journaliste féministe et George Harmois\, Avocat philanthrope\, le cimetière des chiens et autres animaux domestiques fût érigé sur l’île des Ravageurs. \nPour se rendre au Cimetière : \nEn voiture : un parking est disponible devant le cimetière \n 4 Pont de Clichy\, 92600 Asnières-sur-Seine \nEn transports : Métro Ligne 13 station Gabriel Péri \nLe lieu de rendez-vous de la visite : devant la porte monumentale du Cimetière\, près de la statue Alter Ego \nLes chiens tenus en laisse peuvent vous accompagner durant la visite. \nTarif : 15 euros\nRéservation obligatoire par mail  : greenandgraves@gmail.com ou par SMS au  06 10 30 52 08 \n\nLe tarif proposé est un tarif à partir de 13 ans et comprend la visite guidée ET l’entrée payante du cimetière\n\n  \n\nL’entrée du cimetière et la visite guidée sont gratuites pour les enfants de 0 à 6 ans.\nPour les 6-12 ans\, la visite guidée est gratuite\, il faudra simplement régler l’entrée du cimetière directement à la conservation (1\,50 euros\, attention pas de carte bancaire).\nLa visite est limitée à 10-15 personnes maximum pour des raisons de confort et de respect des concessionnaires car le cimetière\, encore en activité est un lieu de mémoire et de recueillement.\nPrévoir des chaussures confortables et un vêtement de pluie en fonction de la météo.\nLe cimetière est déconseillé aux personnes à mobilité réduite car le terrain peut être accidenté et les allées sont souvent étroites\, jonchées de pierres ou de racines.\nLa visite peut être annulée en cas de force majeure ou de météo compliquée (grêle\, neige\, vent violent) et la Ville d’Asnières peut aussi décider de ne pas ouvrir le cimetière pour de multiples raisons.\n\nMerci de vous présenter au point de rendez vous 10 minutes avant le début de la visite et de bien préciser vos coordonnées lors de la réservation en cas d’annulation de dernière minute.
URL:https://necro-romantiques.fr/agenda/cimetiere-des-chiens-dasnieres-sur-seine-4/
CATEGORIES:Cimetière des chiens d’Asnières Sur Seine
END:VEVENT
BEGIN:VEVENT
DTSTART;TZID=Europe/Paris:20241031T140000
DTEND;TZID=Europe/Paris:20241031T160000
DTSTAMP:20260421T211544
CREATED:20230902T211048Z
LAST-MODIFIED:20241024T233829Z
UID:5559-1730383200-1730390400@necro-romantiques.fr
SUMMARY:Cimetière des Chiens d'Asnières Sur Seine
DESCRIPTION:A quelques kilomètres de Paris\, découvrez un lieu unique au monde\, chargé d’histoire et d’amour : le cimetière des chiens d’Asnières sur Seine. \nOuvert en 1899 sur l’idée de deux grands amoureux des animaux : Marguerite Durand\, journaliste féministe et George Harmois\, Avocat philanthrope\, le cimetière des chiens et autres animaux domestiques fût érigé sur l’île des Ravageurs. \nPour se rendre au Cimetière : \nEn voiture : un parking est disponible devant le cimetière \nEn transports : Métro Ligne 13 station Gabriel Péri \nLe lieu de rendez-vous de la visite : devant la porte monumentale du Cimetière\, près de la statue Alter Ego \nLes chiens tenus en laisse peuvent vous accompagner durant la visite. \nTarif : 15 euros\nRéservation obligatoire par mail  : greenandgraves@gmail.com ou par SMS au  06 10 30 52 08 \n\nLe tarif proposé est un tarif à partir de 13 ans et comprend la visite guidée ET l’entrée payante du cimetière.\nL’entrée du cimetière et la visite guidée sont gratuites pour les enfants de 0 à 6 ans.\nPour les 6-12 ans\, la visite guidée est gratuite\, il faudra simplement régler l’entrée du cimetière directement à la conservation (1\,50 euros\, attention pas de carte bancaire).\nLa visite est limitée à 10-15 personnes maximum pour des raisons de confort et de respect des concessionnaires car le cimetière\, encore en activité est un lieu de mémoire et de recueillement.\nPrévoir des chaussures confortables et un vêtement de pluie en fonction de la météo.\nLe cimetière est déconseillé aux personnes à mobilité réduite car le terrain peut être accidenté et les allées sont souvent étroites\, jonchées de pierres ou de racines.\nLa visite peut être annulée en cas de force majeure ou de météo compliquée (grêle\, neige\, vent violent) et la Ville d’Asnières peut aussi décider de ne pas ouvrir le cimetière pour de multiples raisons.\n\nMerci de vous présenter au point de rendez vous 10 minutes avant le début de la visite et de bien préciser vos coordonnées lors de la réservation en cas d’annulation de dernière minute.
URL:https://necro-romantiques.fr/agenda/cimetiere-des-chiens-dasnieres-sur-seine/
CATEGORIES:Cimetière des chiens d’Asnières Sur Seine
ATTACH;FMTTYPE=image/jpeg:https://necro-romantiques.fr/wp-content/uploads/2022/09/chiens.jpeg
END:VEVENT
BEGIN:VEVENT
DTSTART;TZID=Europe/Paris:20241031T103000
DTEND;TZID=Europe/Paris:20241031T123000
DTSTAMP:20260421T211544
CREATED:20230902T211758Z
LAST-MODIFIED:20241024T234549Z
UID:5565-1730370600-1730377800@necro-romantiques.fr
SUMMARY:Cimetière des Chiens d'Asnières Sur Seine
DESCRIPTION:A quelques kilomètres de Paris\, découvrez un lieu unique au monde\, chargé d’histoire et d’amour : le cimetière des chiens d’Asnières sur Seine. \nOuvert en 1899 sur l’idée de deux grands amoureux des animaux : Marguerite Durand\, journaliste féministe et George Harmois\, Avocat philanthrope\, le cimetière des chiens et autres animaux domestiques fût érigé sur l’île des Ravageurs. \nPour se rendre au Cimetière : \nEn voiture : un parking est disponible devant le cimetière \n 4 Pont de Clichy\, 92600 Asnières-sur-Seine \nEn transports : Métro Ligne 13 station Gabriel Péri \nLe lieu de rendez-vous de la visite : devant la porte monumentale du Cimetière\, près de la statue Alter Ego \nLes chiens tenus en laisse peuvent vous accompagner durant la visite. \nTarif : 15 euros\nRéservation obligatoire par mail  : greenandgraves@gmail.com ou par SMS au  06 10 30 52 08 \n\nLe tarif proposé est un tarif à partir de 13 ans et comprend la visite guidée ET l’entrée payante du cimetière.\nL’entrée du cimetière et la visite guidée sont gratuites pour les enfants de 0 à 6 ans.\nPour les 6-12 ans\, la visite guidée est gratuite\, il faudra simplement régler l’entrée du cimetière directement à la conservation (1\,50 euros\, attention pas de carte bancaire).\nLa visite est limitée à 10-15 personnes maximum pour des raisons de confort et de respect des concessionnaires car le cimetière\, encore en activité est un lieu de mémoire et de recueillement.\nPrévoir des chaussures confortables et un vêtement de pluie en fonction de la météo.\nLe cimetière est déconseillé aux personnes à mobilité réduite car le terrain peut être accidenté et les allées sont souvent étroites\, jonchées de pierres ou de racines.\nLa visite peut être annulée en cas de force majeure ou de météo compliquée (grêle\, neige\, vent violent) et la Ville d’Asnières peut aussi décider de ne pas ouvrir le cimetière pour de multiples raisons.\n\nMerci de vous présenter au point de rendez vous 10 minutes avant le début de la visite et de bien préciser vos coordonnées lors de la réservation en cas d’annulation de dernière minute.
URL:https://necro-romantiques.fr/agenda/cimetiere-des-chiens-dasnieres-sur-seine-3/
CATEGORIES:Cimetière des chiens d’Asnières Sur Seine
ATTACH;FMTTYPE=image/jpeg:https://necro-romantiques.fr/wp-content/uploads/2022/09/chiens.jpeg
END:VEVENT
BEGIN:VEVENT
DTSTART;TZID=Europe/Paris:20240623T140000
DTEND;TZID=Europe/Paris:20240623T173000
DTSTAMP:20260421T211544
CREATED:20240514T123115Z
LAST-MODIFIED:20240514T123115Z
UID:5558-1719151200-1719163800@necro-romantiques.fr
SUMMARY:Fête de la Musique 2024 au Père Lachaise
DESCRIPTION:NE RESISTEZ PAS A L’APPEL de la musique\n\n\nFête de la Musique au Père Lachaise\n\n\nsur réservation :\n@ : lesnecroromantiques@gmail.com\nSMS : 06 30 13 89 94
URL:https://necro-romantiques.fr/agenda/fete-de-la-musique-2024-au-pere-lachaise/
END:VEVENT
END:VCALENDAR